{"text_format":"1","workbook":"xlsx","n_sheets":2,"sheets":["Formulas","Oefenen"],"not_rendered":{"charts":0,"images":0,"macros":1,"external_links":0,"defined_names":0,"comments":0,"pivot_tables":0},"unopened":[],"bounds":{"document_bytes":16777216,"sheet_cells":100000,"rows_first":2000,"rows_last":500,"rows_between":2000,"halvings":0,"cell_chars":16384,"cell_head_chars":4096},"cells_cut":0,"cells_raw":0,"read":"whole","date_system":"1900"}

{"sheet":"Formulas","index":0,"n_rows":28,"n_cols":15,"rows_kept":28,"cut":false,"hidden":true,"merged":[]}
[]
[null,"Sommen",null,null,null,null,"Vermenigvuldigen"]
[null,"Maximum som",null,{"$f":"Oefenen!C1","v":100},null,null,"Grootste maaltafel",null,null,{"$f":"Oefenen!C2","v":10},null,1,"Super",1,"Jammer"]
[null,null,null,null,null,null,null,null,null,null,null,2,"Goed gedaan",2,"Probeer nog eens"]
[null,{"$f":"ROUND(RAND()*$D$3/2,0)","v":5},"+",{"$f":"ROUND(RAND()*$D$3/2,0)","v":21},"=",null,{"$f":"ROUND(RAND()*$J$3,0)","v":0},"X",{"$f":"ROUND(RAND()*$J$3,0)","v":1},"=",null,3,"Mooi zo",3,"Ai"]
[null,{"$f":"ROUND(RAND()*$D$3/2,0)","v":1},"+",{"$f":"ROUND(RAND()*$D$3/2,0)","v":16},"=",null,{"$f":"ROUND(RAND()*$J$3,0)","v":2},"X",{"$f":"ROUND(RAND()*$J$3,0)","v":4},"=",null,4,"Ga zo verder",4,"Iets ander misschien"]
[null,6,"+",29,"=",null,8,"X",3,"=",null,5,"Prachtig",5,"Fout"]
[null,28,"+",39,"=",null,1,"X",2,"=",null,6,"Correct",6,"Oei"]
[null,2,"+",0,"=",null,3,"X",7,"=",null,7,"Juist",7,"Mis"]
[null,38,"+",8,"=",null,4,"X",10,"="]
[null,44,"+",16,"=",null,4,"X",10,"="]
[null,26,"+",0,"=",null,6,"X",7,"="]
[null,7,"+",28,"=",null,4,"X",2,"="]
[null,0,"+",30,"=",null,8,"X",10,"="]
[]
[]
[]
[null,"Splitsen",null,null,null,null,"Delen"]
[null,{"$f":"D19+M19","v":46},"-",{"$f":"ROUND(RAND()*$D$3/2,0)","v":12},"=",null,{"$f":"I19*L19","v":0},":",{"$f":"ROUND(RAND()*($J$3-1)+1,0)","v":5},"=",null,{"$f":"ROUND(RAND()*$J$3,0)","v":0},{"$f":"ROUND(RAND()*$D$3/2,0)","v":34}]
[null,{"$f":"D20+M20","v":55},"-",{"$f":"ROUND(RAND()*$D$3/2,0)","v":37},"=",null,{"$f":"I20*L20","v":49},":",{"$f":"ROUND(RAND()*($J$3-1)+1,0)","v":7},"=",null,{"$f":"ROUND(RAND()*$J$3,0)","v":7},{"$f":"ROUND(RAND()*$D$3/2,0)","v":18}]
[null,{"$f":"D21+M21","v":45},"-",10,"=",null,{"$f":"I21*L21","v":42},":",7,"=",null,6,35]
[null,{"$f":"D22+M22","v":28},"-",9,"=",null,{"$f":"I22*L22","v":30},":",6,"=",null,5,19]
[null,{"$f":"D23+M23","v":15},"-",8,"=",null,{"$f":"I23*L23","v":0},":",5,"=",null,0,7]
[null,{"$f":"D24+M24","v":81},"-",40,"=",null,{"$f":"I24*L24","v":56},":",8,"=",null,7,41]
[null,{"$f":"D25+M25","v":26},"-",12,"=",null,{"$f":"I25*L25","v":24},":",3,"=",null,8,14]
[null,{"$f":"D26+M26","v":37},"-",16,"=",null,{"$f":"I26*L26","v":6},":",2,"=",null,3,21]
[null,{"$f":"D27+M27","v":26},"-",16,"=",null,{"$f":"I27*L27","v":60},":",6,"=",null,10,10]
[null,{"$f":"D28+M28","v":55},"-",43,"=",null,{"$f":"I28*L28","v":27},":",9,"=",null,3,12]

{"sheet":"Oefenen","index":1,"n_rows":26,"n_cols":14,"rows_kept":26,"cut":false,"hidden":false,"merged":[]}
["Grootste som",null,100]
["Grootste maaltafel",null,10]
[]
["Sommen",null,null,null,null,null,null,null,"Vermenigvuldigen"]
[12,"+",38,"=",null,{"$f":"IF(E5=\"\",\"\",IF(A5+C5=E5,VLOOKUP(ROUND(RAND()*6,0)+1,Formulas!$L$3:$M$9,2,0),VLOOKUP(ROUND(RAND()*6,0)+1,Formulas!$N$3:$O$9,2,0)))","v":""},null,null,0,"X",8,"=",null,{"$f":"IF(M5=\"\",\"\",IF(I5*K5=M5,VLOOKUP(ROUND(RAND()*6,0)+1,Formulas!$L$3:$M$9,2,0),VLOOKUP(ROUND(RAND()*6,0)+1,Formulas!$N$3:$O$9,2,0)))","v":""}]
[36,"+",4,"=",null,{"$f":"IF(E6=\"\",\"\",IF(A6+C6=E6,VLOOKUP(ROUND(RAND()*6,0)+1,Formulas!$L$3:$M$9,2,0),VLOOKUP(ROUND(RAND()*6,0)+1,Formulas!$N$3:$O$9,2,0)))","v":""},null,null,2,"X",8,"=",null,{"$f":"IF(M6=\"\",\"\",IF(I6*K6=M6,VLOOKUP(ROUND(RAND()*6,0)+1,Formulas!$L$3:$M$9,2,0),VLOOKUP(ROUND(RAND()*6,0)+1,Formulas!$N$3:$O$9,2,0)))","v":""}]
[23,"+",8,"=",null,{"$f":"IF(E7=\"\",\"\",IF(A7+C7=E7,VLOOKUP(ROUND(RAND()*6,0)+1,Formulas!$L$3:$M$9,2,0),VLOOKUP(ROUND(RAND()*6,0)+1,Formulas!$N$3:$O$9,2,0)))","v":""},null,null,0,"X",0,"=",null,{"$f":"IF(M7=\"\",\"\",IF(I7*K7=M7,VLOOKUP(ROUND(RAND()*6,0)+1,Formulas!$L$3:$M$9,2,0),VLOOKUP(ROUND(RAND()*6,0)+1,Formulas!$N$3:$O$9,2,0)))","v":""}]
[19,"+",17,"=",null,{"$f":"IF(E8=\"\",\"\",IF(A8+C8=E8,VLOOKUP(ROUND(RAND()*6,0)+1,Formulas!$L$3:$M$9,2,0),VLOOKUP(ROUND(RAND()*6,0)+1,Formulas!$N$3:$O$9,2,0)))","v":""},null,null,9,"X",3,"=",null,{"$f":"IF(M8=\"\",\"\",IF(I8*K8=M8,VLOOKUP(ROUND(RAND()*6,0)+1,Formulas!$L$3:$M$9,2,0),VLOOKUP(ROUND(RAND()*6,0)+1,Formulas!$N$3:$O$9,2,0)))","v":""}]
[19,"+",15,"=",null,{"$f":"IF(E9=\"\",\"\",IF(A9+C9=E9,VLOOKUP(ROUND(RAND()*6,0)+1,Formulas!$L$3:$M$9,2,0),VLOOKUP(ROUND(RAND()*6,0)+1,Formulas!$N$3:$O$9,2,0)))","v":""},null,null,8,"X",2,"=",null,{"$f":"IF(M9=\"\",\"\",IF(I9*K9=M9,VLOOKUP(ROUND(RAND()*6,0)+1,Formulas!$L$3:$M$9,2,0),VLOOKUP(ROUND(RAND()*6,0)+1,Formulas!$N$3:$O$9,2,0)))","v":""}]
[9,"+",32,"=",null,{"$f":"IF(E10=\"\",\"\",IF(A10+C10=E10,VLOOKUP(ROUND(RAND()*6,0)+1,Formulas!$L$3:$M$9,2,0),VLOOKUP(ROUND(RAND()*6,0)+1,Formulas!$N$3:$O$9,2,0)))","v":""},null,null,5,"X",10,"=",null,{"$f":"IF(M10=\"\",\"\",IF(I10*K10=M10,VLOOKUP(ROUND(RAND()*6,0)+1,Formulas!$L$3:$M$9,2,0),VLOOKUP(ROUND(RAND()*6,0)+1,Formulas!$N$3:$O$9,2,0)))","v":""}]
[39,"+",7,"=",null,{"$f":"IF(E11=\"\",\"\",IF(A11+C11=E11,VLOOKUP(ROUND(RAND()*6,0)+1,Formulas!$L$3:$M$9,2,0),VLOOKUP(ROUND(RAND()*6,0)+1,Formulas!$N$3:$O$9,2,0)))","v":""},null,null,10,"X",8,"=",null,{"$f":"IF(M11=\"\",\"\",IF(I11*K11=M11,VLOOKUP(ROUND(RAND()*6,0)+1,Formulas!$L$3:$M$9,2,0),VLOOKUP(ROUND(RAND()*6,0)+1,Formulas!$N$3:$O$9,2,0)))","v":""}]
[31,"+",7,"=",null,{"$f":"IF(E12=\"\",\"\",IF(A12+C12=E12,VLOOKUP(ROUND(RAND()*6,0)+1,Formulas!$L$3:$M$9,2,0),VLOOKUP(ROUND(RAND()*6,0)+1,Formulas!$N$3:$O$9,2,0)))","v":""},null,null,9,"X",1,"=",null,{"$f":"IF(M12=\"\",\"\",IF(I12*K12=M12,VLOOKUP(ROUND(RAND()*6,0)+1,Formulas!$L$3:$M$9,2,0),VLOOKUP(ROUND(RAND()*6,0)+1,Formulas!$N$3:$O$9,2,0)))","v":""}]
[41,"+",19,"=",null,{"$f":"IF(E13=\"\",\"\",IF(A13+C13=E13,VLOOKUP(ROUND(RAND()*6,0)+1,Formulas!$L$3:$M$9,2,0),VLOOKUP(ROUND(RAND()*6,0)+1,Formulas!$N$3:$O$9,2,0)))","v":""},null,null,2,"X",7,"=",null,{"$f":"IF(M13=\"\",\"\",IF(I13*K13=M13,VLOOKUP(ROUND(RAND()*6,0)+1,Formulas!$L$3:$M$9,2,0),VLOOKUP(ROUND(RAND()*6,0)+1,Formulas!$N$3:$O$9,2,0)))","v":""}]
[22,"+",20,"=",null,{"$f":"IF(E14=\"\",\"\",IF(A14+C14=E14,VLOOKUP(ROUND(RAND()*6,0)+1,Formulas!$L$3:$M$9,2,0),VLOOKUP(ROUND(RAND()*6,0)+1,Formulas!$N$3:$O$9,2,0)))","v":""},null,null,1,"X",7,"=",null,{"$f":"IF(M14=\"\",\"\",IF(I14*K14=M14,VLOOKUP(ROUND(RAND()*6,0)+1,Formulas!$L$3:$M$9,2,0),VLOOKUP(ROUND(RAND()*6,0)+1,Formulas!$N$3:$O$9,2,0)))","v":""}]
[]
["Splitsen",null,null,null,null,null,null,null,"Delen"]
[22,"-",18,"=",null,{"$f":"IF(E17=\"\",\"\",IF(A17-C17=E17,VLOOKUP(ROUND(RAND()*6,0)+1,Formulas!$L$3:$M$9,2,0),VLOOKUP(ROUND(RAND()*6,0)+1,Formulas!$N$3:$O$9,2,0)))","v":""},null,null,16,":",2,"=",null,{"$f":"IF(M17=\"\",\"\",IF(I17/K17=M17,VLOOKUP(ROUND(RAND()*6,0)+1,Formulas!$L$3:$M$9,2,0),VLOOKUP(ROUND(RAND()*6,0)+1,Formulas!$N$3:$O$9,2,0)))","v":""}]
[46,"-",13,"=",null,{"$f":"IF(E18=\"\",\"\",IF(A18-C18=E18,VLOOKUP(ROUND(RAND()*6,0)+1,Formulas!$L$3:$M$9,2,0),VLOOKUP(ROUND(RAND()*6,0)+1,Formulas!$N$3:$O$9,2,0)))","v":""},null,null,72,":",8,"=",null,{"$f":"IF(M18=\"\",\"\",IF(I18/K18=M18,VLOOKUP(ROUND(RAND()*6,0)+1,Formulas!$L$3:$M$9,2,0),VLOOKUP(ROUND(RAND()*6,0)+1,Formulas!$N$3:$O$9,2,0)))","v":""}]
[63,"-",27,"=",null,{"$f":"IF(E19=\"\",\"\",IF(A19-C19=E19,VLOOKUP(ROUND(RAND()*6,0)+1,Formulas!$L$3:$M$9,2,0),VLOOKUP(ROUND(RAND()*6,0)+1,Formulas!$N$3:$O$9,2,0)))","v":""},null,null,18,":",6,"=",null,{"$f":"IF(M19=\"\",\"\",IF(I19/K19=M19,VLOOKUP(ROUND(RAND()*6,0)+1,Formulas!$L$3:$M$9,2,0),VLOOKUP(ROUND(RAND()*6,0)+1,Formulas!$N$3:$O$9,2,0)))","v":""}]
[41,"-",32,"=",null,{"$f":"IF(E20=\"\",\"\",IF(A20-C20=E20,VLOOKUP(ROUND(RAND()*6,0)+1,Formulas!$L$3:$M$9,2,0),VLOOKUP(ROUND(RAND()*6,0)+1,Formulas!$N$3:$O$9,2,0)))","v":""},null,null,0,":",6,"=",null,{"$f":"IF(M20=\"\",\"\",IF(I20/K20=M20,VLOOKUP(ROUND(RAND()*6,0)+1,Formulas!$L$3:$M$9,2,0),VLOOKUP(ROUND(RAND()*6,0)+1,Formulas!$N$3:$O$9,2,0)))","v":""}]
[80,"-",45,"=",null,{"$f":"IF(E21=\"\",\"\",IF(A21-C21=E21,VLOOKUP(ROUND(RAND()*6,0)+1,Formulas!$L$3:$M$9,2,0),VLOOKUP(ROUND(RAND()*6,0)+1,Formulas!$N$3:$O$9,2,0)))","v":""},null,null,20,":",5,"=",null,{"$f":"IF(M21=\"\",\"\",IF(I21/K21=M21,VLOOKUP(ROUND(RAND()*6,0)+1,Formulas!$L$3:$M$9,2,0),VLOOKUP(ROUND(RAND()*6,0)+1,Formulas!$N$3:$O$9,2,0)))","v":""}]
[28,"-",13,"=",null,{"$f":"IF(E22=\"\",\"\",IF(A22-C22=E22,VLOOKUP(ROUND(RAND()*6,0)+1,Formulas!$L$3:$M$9,2,0),VLOOKUP(ROUND(RAND()*6,0)+1,Formulas!$N$3:$O$9,2,0)))","v":""},null,null,24,":",8,"=",null,{"$f":"IF(M22=\"\",\"\",IF(I22/K22=M22,VLOOKUP(ROUND(RAND()*6,0)+1,Formulas!$L$3:$M$9,2,0),VLOOKUP(ROUND(RAND()*6,0)+1,Formulas!$N$3:$O$9,2,0)))","v":""}]
[65,"-",29,"=",null,{"$f":"IF(E23=\"\",\"\",IF(A23-C23=E23,VLOOKUP(ROUND(RAND()*6,0)+1,Formulas!$L$3:$M$9,2,0),VLOOKUP(ROUND(RAND()*6,0)+1,Formulas!$N$3:$O$9,2,0)))","v":""},null,null,20,":",5,"=",null,{"$f":"IF(M23=\"\",\"\",IF(I23/K23=M23,VLOOKUP(ROUND(RAND()*6,0)+1,Formulas!$L$3:$M$9,2,0),VLOOKUP(ROUND(RAND()*6,0)+1,Formulas!$N$3:$O$9,2,0)))","v":""}]
[53,"-",45,"=",null,{"$f":"IF(E24=\"\",\"\",IF(A24-C24=E24,VLOOKUP(ROUND(RAND()*6,0)+1,Formulas!$L$3:$M$9,2,0),VLOOKUP(ROUND(RAND()*6,0)+1,Formulas!$N$3:$O$9,2,0)))","v":""},null,null,18,":",2,"=",null,{"$f":"IF(M24=\"\",\"\",IF(I24/K24=M24,VLOOKUP(ROUND(RAND()*6,0)+1,Formulas!$L$3:$M$9,2,0),VLOOKUP(ROUND(RAND()*6,0)+1,Formulas!$N$3:$O$9,2,0)))","v":""}]
[50,"-",24,"=",null,{"$f":"IF(E25=\"\",\"\",IF(A25-C25=E25,VLOOKUP(ROUND(RAND()*6,0)+1,Formulas!$L$3:$M$9,2,0),VLOOKUP(ROUND(RAND()*6,0)+1,Formulas!$N$3:$O$9,2,0)))","v":""},null,null,24,":",8,"=",null,{"$f":"IF(M25=\"\",\"\",IF(I25/K25=M25,VLOOKUP(ROUND(RAND()*6,0)+1,Formulas!$L$3:$M$9,2,0),VLOOKUP(ROUND(RAND()*6,0)+1,Formulas!$N$3:$O$9,2,0)))","v":""}]
[56,"-",6,"=",null,{"$f":"IF(E26=\"\",\"\",IF(A26-C26=E26,VLOOKUP(ROUND(RAND()*6,0)+1,Formulas!$L$3:$M$9,2,0),VLOOKUP(ROUND(RAND()*6,0)+1,Formulas!$N$3:$O$9,2,0)))","v":""},null,null,72,":",9,"=",null,{"$f":"IF(M26=\"\",\"\",IF(I26/K26=M26,VLOOKUP(ROUND(RAND()*6,0)+1,Formulas!$L$3:$M$9,2,0),VLOOKUP(ROUND(RAND()*6,0)+1,Formulas!$N$3:$O$9,2,0)))","v":""}]